BEGIN:VCALENDAR
VERSION:2.0
PRODID:-//wp-events-plugin.com//7.2.3.1//EN
TZID:Europe/Prague
X-WR-TIMEZONE:Europe/Prague
BEGIN:VEVENT
UID:31@skolkawatikpraha.firemniskolky.cz
DTSTART;TZID=Europe/Prague:20250903T160000
DTEND;TZID=Europe/Prague:20250903T170000
DTSTAMP:20250829T115844Z
URL:https://skolkawatikpraha.firemniskolky.cz/events/tridni-schuzky/
SUMMARY:Třídní schůzky
DESCRIPTION:Ve středu 3.9. se konají třídní schůzky pro rodiče dět
 í\,  které budou nastupovat během šk.roku 2025/26 a také pro rodiče
  dětí\, které již do Watíku chodí.
ATTACH;FMTTYPE=image/jpeg:https://skolkawatikpraha.firemniskolky.cz/wp-con
 tent/uploads/2025/08/d3b4cdcba6a3e15e792e152c41be9a2c.jpg
CATEGORIES:Kalendář akcí
END:VEVENT
BEGIN:VTIMEZONE
TZID:Europe/Prague
X-LIC-LOCATION:Europe/Prague
BEGIN:DAYLIGHT
DTSTART:20250330T030000
TZOFFSETFROM:+0100
TZOFFSETTO:+0200
TZNAME:CEST
END:DAYLIGHT
END:VTIMEZONE
END:VCALENDAR